BEGIN:VCALENDAR
VERSION:2.0
PRODID:-//ChamberMaster//Event Calendar 2.0//EN
METHOD:PUBLISH
X-PUBLISHED-TTL:P3D
REFRESH-INTERVAL:P3D
CALSCALE:GREGORIAN
BEGIN:VEVENT
DTSTART;VALUE=DATE:20191116
DTEND;VALUE=DATE:20191117
TRANSP:TRANSPARENT
X-MICROSOFT-CDO-ALLDAYEVENT:TRUE
SUMMARY:Stars and Stripes Museum Fundraiser
DESCRIPTION:There will be a fundraiser at the Cape Arena Building on Saturday\, November 16th for the Stars and Stripes Museum. The publisher of the Stars and Stripes from DC along with Gov. Parson will be the featured speakers and Jerry Fords orchestra will perform. The cost is $100 per person.
X-ALT-DESC;FMTTYPE=text/html:There will be a fundraiser at the Cape Arena Building on Saturday\, November 16th for the Stars and Stripes Museum. The publisher of the Stars and Stripes from DC along with Gov. Parson will be the featured speakers and Jerry Fords orchestra will perform. The cost is $100 per person.&nbsp\;
LOCATION:Cape Arena Building in Cape Girardeau\, MO.
UID:e.2835.2624
SEQUENCE:3
DTSTAMP:20260423T072944Z
URL:https://business.sikeston.net/events/details/stars-and-stripes-museum-fundraiser-2624
END:VEVENT

END:VCALENDAR
