BEGIN:VCALENDAR
VERSION:2.0
PRODID:-//ChamberMaster//Event Calendar 2.0//EN
METHOD:PUBLISH
X-PUBLISHED-TTL:P3D
REFRESH-INTERVAL:P3D
CALSCALE:GREGORIAN
BEGIN:VEVENT
DTSTART;VALUE=DATE:20260516
DTEND;VALUE=DATE:20260517
TRANSP:TRANSPARENT
X-MICROSOFT-CDO-ALLDAYEVENT:TRUE
SUMMARY:Sikeston Jaycees Crawfish Boil & Music Festival
DESCRIPTION:Sikeston Jaycee Crawfish Boil + Music Festival features fresh crawfish from Louisianna with all the fixings. kids' activities and live bands from 1-11:30pm.
X-ALT-DESC;FMTTYPE=text/html:<a href="https://sikestonrodeo.com/crawfish-boil/">Sikeston Jaycee Crawfish Boil + Music Festival</a>&nbsp\;features fresh crawfish from Louisianna with all the fixings. kids&#39\; activities and live bands from 1-11:30pm.
LOCATION:Sikeston Jaycee Rodeo Grounds\, 1220 N. Ingram Rd.\, Sikeston MO
UID:e.2835.14989
SEQUENCE:3
DTSTAMP:20260421T171049Z
URL:https://business.sikeston.net/events/details/sikeston-jaycees-crawfish-boil-music-festival-14989
END:VEVENT

END:VCALENDAR
