BEGIN:VCALENDAR
VERSION:2.0
PRODID:-//ChamberMaster//Event Calendar 2.0//EN
METHOD:PUBLISH
X-PUBLISHED-TTL:P3D
REFRESH-INTERVAL:P3D
CALSCALE:GREGORIAN
BEGIN:VEVENT
DTSTART:20200623T200000Z
DTEND:20200623T220000Z
X-MICROSOFT-CDO-ALLDAYEVENT:FALSE
SUMMARY:Murphy Business Sales Webinar
DESCRIPTION:Free Webinar: How 2020 Might Impact Your Business' Value\n\nPresenter: Jennifer S. Smith\, MBA\, BCI\, CMAI
X-ALT-DESC;FMTTYPE=text/html:Free Webinar: How 2020 Might Impact Your Business&#39\; Value<br />\nPresenter: Jennifer S. Smith\, MBA\, BCI\, CMAI
LOCATION:
UID:e.2835.2780
SEQUENCE:3
DTSTAMP:20260422T162047Z
URL:https://business.sikeston.net/events/details/murphy-business-sales-webinar-2780
END:VEVENT

END:VCALENDAR
