BEGIN:VCALENDAR
VERSION:2.0
PRODID:-//ChamberMaster//Event Calendar 2.0//EN
METHOD:PUBLISH
X-PUBLISHED-TTL:P3D
REFRESH-INTERVAL:P3D
CALSCALE:GREGORIAN
BEGIN:VEVENT
DTSTART:20200310T120000Z
DTEND:20200311T000000Z
X-MICROSOFT-CDO-ALLDAYEVENT:FALSE
SUMMARY:Kiwanis Pancake Day
DESCRIPTION:Kiwanis Pancake Day will be held at the Elks Lodge from 7:00am to 7:00pm. Tickets are $7.00 and are available from any Kiwanis member or at the door the day of the event. Proceeds benefit Kiwanis projects for children in the community.
X-ALT-DESC;FMTTYPE=text/html:Kiwanis Pancake Day will be held at the Elks Lodge from 7:00am to 7:00pm. Tickets are $7.00 and are available from any Kiwanis member or at the door the day of the event. Proceeds benefit Kiwanis projects for children in the community.&nbsp\;
LOCATION:Elks Lodge located at 349 Dona St.
UID:e.2835.2716
SEQUENCE:3
DTSTAMP:20260424T155448Z
URL:https://business.sikeston.net/events/details/kiwanis-pancake-day-2716
END:VEVENT

END:VCALENDAR
