BEGIN:VCALENDAR
VERSION:2.0
PRODID:-//ChamberMaster//Event Calendar 2.0//EN
METHOD:PUBLISH
X-PUBLISHED-TTL:P3D
REFRESH-INTERVAL:P3D
CALSCALE:GREGORIAN
BEGIN:VEVENT
DTSTART;VALUE=DATE:20261007
DTEND;VALUE=DATE:20261008
TRANSP:TRANSPARENT
X-MICROSOFT-CDO-ALLDAYEVENT:TRUE
SUMMARY:American Legion's 94th Birthday
DESCRIPTION:American Legion Post 114 celebrating their 94th Birthday.
X-ALT-DESC;FMTTYPE=text/html:American Legion Post 114 celebrating their 94th Birthday.&nbsp\;
LOCATION:333 S. Kingshighway
UID:e.2835.15585
SEQUENCE:3
DTSTAMP:20260425T102712Z
URL:https://business.sikeston.net/events/details/american-legion-s-94th-birthday-15585
END:VEVENT

END:VCALENDAR
