BEGIN:VCALENDAR
VERSION:2.0
PRODID:-//ChamberMaster//Event Calendar 2.0//EN
METHOD:PUBLISH
X-PUBLISHED-TTL:P3D
REFRESH-INTERVAL:P3D
CALSCALE:GREGORIAN
BEGIN:VEVENT
DTSTART;VALUE=DATE:20260929
DTEND;VALUE=DATE:20261004
TRANSP:TRANSPARENT
X-MICROSOFT-CDO-ALLDAYEVENT:TRUE
SUMMARY:American Legion Cotton Carnival
DESCRIPTION:82nd Annual Cotton Carnival at the Sikeston Rodeo Grounds. Cotton Carnival Parade will be held Saturday\, October 3 starting at 10am. The parade theme is the Semi quincentennial\, America's 250th Birthday.
X-ALT-DESC;FMTTYPE=text/html:82nd Annual Cotton Carnival at the Sikeston Rodeo Grounds. Cotton Carnival Parade will be held Saturday\, October 3 starting at 10am. The parade theme is the Semi quincentennial\, America&#39\;s 250th Birthday.
LOCATION:1220 N. Ingram Rd.
UID:e.2835.15584
SEQUENCE:3
DTSTAMP:20260421T135303Z
URL:https://business.sikeston.net/events/details/american-legion-cotton-carnival-15584
END:VEVENT

END:VCALENDAR
